BEGIN:VCALENDAR
VERSION:2.0
PRODID:-//Garden Clubs of Northwest Florida - ECPv6.15.20//NONSGML v1.0//EN
CALSCALE:GREGORIAN
METHOD:PUBLISH
X-WR-CALNAME:Garden Clubs of Northwest Florida
X-ORIGINAL-URL:https://gardenclubsnwfl.com
X-WR-CALDESC:Events for Garden Clubs of Northwest Florida
REFRESH-INTERVAL;VALUE=DURATION:PT1H
X-Robots-Tag:noindex
X-PUBLISHED-TTL:PT1H
BEGIN:VTIMEZONE
TZID:America/Chicago
BEGIN:DAYLIGHT
TZOFFSETFROM:-0600
TZOFFSETTO:-0500
TZNAME:CDT
DTSTART:20220313T080000
END:DAYLIGHT
BEGIN:STANDARD
TZOFFSETFROM:-0500
TZOFFSETTO:-0600
TZNAME:CST
DTSTART:20221106T070000
END:STANDARD
BEGIN:DAYLIGHT
TZOFFSETFROM:-0600
TZOFFSETTO:-0500
TZNAME:CDT
DTSTART:20230312T080000
END:DAYLIGHT
BEGIN:STANDARD
TZOFFSETFROM:-0500
TZOFFSETTO:-0600
TZNAME:CST
DTSTART:20231105T070000
END:STANDARD
BEGIN:DAYLIGHT
TZOFFSETFROM:-0600
TZOFFSETTO:-0500
TZNAME:CDT
DTSTART:20240310T080000
END:DAYLIGHT
BEGIN:STANDARD
TZOFFSETFROM:-0500
TZOFFSETTO:-0600
TZNAME:CST
DTSTART:20241103T070000
END:STANDARD
END:VTIMEZONE
BEGIN:VEVENT
DTSTART;VALUE=DATE:20230807
DTEND;VALUE=DATE:20230808
DTSTAMP:20260422T150840
CREATED:20230708T014901Z
LAST-MODIFIED:20230708T015239Z
UID:280-1691366400-1691366400@gardenclubsnwfl.com
SUMMARY:Plant Sale
DESCRIPTION:Come to Valparaiso’s Perrine Park for “Saturday in the Park”.  Valparaiso Garden Club’s Plant Sale will be outside the Heritage Museum’s Paradise Pollinator Garden. Native plants and ornamental plants for your landscape will be available from our own gardens.  Proceeds go to our college scholarship fund.
URL:https://gardenclubsnwfl.com/event/plant-sale/
END:VEVENT
END:VCALENDAR