BEGIN:VCALENDAR
VERSION:2.0
PRODID:-//Garden Clubs of Northwest Florida - ECPv6.15.20//NONSGML v1.0//EN
CALSCALE:GREGORIAN
METHOD:PUBLISH
X-WR-CALNAME:Garden Clubs of Northwest Florida
X-ORIGINAL-URL:https://gardenclubsnwfl.com
X-WR-CALDESC:Events for Garden Clubs of Northwest Florida
REFRESH-INTERVAL;VALUE=DURATION:PT1H
X-Robots-Tag:noindex
X-PUBLISHED-TTL:PT1H
BEGIN:VTIMEZONE
TZID:America/Chicago
BEGIN:DAYLIGHT
TZOFFSETFROM:-0600
TZOFFSETTO:-0500
TZNAME:CDT
DTSTART:20220313T080000
END:DAYLIGHT
BEGIN:STANDARD
TZOFFSETFROM:-0500
TZOFFSETTO:-0600
TZNAME:CST
DTSTART:20221106T070000
END:STANDARD
BEGIN:DAYLIGHT
TZOFFSETFROM:-0600
TZOFFSETTO:-0500
TZNAME:CDT
DTSTART:20230312T080000
END:DAYLIGHT
BEGIN:STANDARD
TZOFFSETFROM:-0500
TZOFFSETTO:-0600
TZNAME:CST
DTSTART:20231105T070000
END:STANDARD
BEGIN:DAYLIGHT
TZOFFSETFROM:-0600
TZOFFSETTO:-0500
TZNAME:CDT
DTSTART:20240310T080000
END:DAYLIGHT
BEGIN:STANDARD
TZOFFSETFROM:-0500
TZOFFSETTO:-0600
TZNAME:CST
DTSTART:20241103T070000
END:STANDARD
END:VTIMEZONE
BEGIN:VEVENT
DTSTART;VALUE=DATE:20230825
DTEND;VALUE=DATE:20230826
DTSTAMP:20260422T110154
CREATED:20230708T014901Z
LAST-MODIFIED:20230708T015356Z
UID:281-1692921600-1692921600@gardenclubsnwfl.com
SUMMARY:Native Adventure at Bone Creek Recreation Area
DESCRIPTION:Please join the Longleaf Pine Chapter of the Florida Native Plant Society Saturday March 25th at 10:00 a.m. for a native adventure at Bone Creek Recreation Area – 4915 Bone Creek Rd. Holt\, FL. (map link below).\nWe will carpool from the University Mall NE parking area in front of JC Penney and across from Firestone Tire leaving at 9:15 a.m.. It is about a 40 minute drive from there. After Bone Creek we will visit a location about 9 miles south near the Yellow River/Guest Lake area. We should be done no later than 3 p.m.\, however you may leave at any time. You do not need to be a member to attend this event. \nhttps://goo.gl/maps/qempVBkkgLSuTP56A \nThe Bone Creek Rec Area is part of Blackwater River State Forest and is a gem of a location to see native plants. The trail is about a mile long loop around Bone Creek Lake passing through both wetlands via boardwalks and uplands. Plant highlights include: \nDrosera intermedia – Waler or spoonleaf sundew – “Listed as a threatened plant in the Preservation of Native Flora of Florida Act” \nPinguicula primuliflora – Southern butterwort – Listed as “endangered” – imminent danger of extinction within the state \nSarracenia rosea – Gulf or decumbent pitcher plant – “Listed as a threatened plant in the Preservation of Native Flora of Florida Act”Acer rubrum – Red maple\nAronia arbutifolia – Red chokeberry in flower\nCliftonia monophylla – Black titi in flowerCornus florida – Flowering dogwood\nCrocanthemum carolinianum – Carolina Frostweed\nGelsemium sempervirens – Yellow jessamine\nIllicium floridanum – Florida anisetree in flower\nLonicera sempervirens – Coral honeysuckle\nLyonia lucida – Fetterbush\nMagnolia grandiflora – Southern Magnolia\nMagnolia virginiana – Sweetbay Magnolia\nMorella cerifera – Wax myrtle \nMorella inodora – odorless bayberry\nOrontium aquaticum – Goldenclub\nPolygala nana & lutea – Candyroot & Orange milkwort\nRhododendron viscosum – Swamp azalea (in bud)\nSymplocos tinctoria – Common sweetleaf/horse sugar in flower\nVaccinium Spp. – Many species of native blueberry in flower\nViburnum nudum – Possumhaw \nPlease email or text me if you have any questions.\nHope to see you there! \nKimberly Bremner – President\nLongleaf Pine Chapter – FNPS\n850-748-3557
URL:https://gardenclubsnwfl.com/event/native-adventure-at-bone-creek-recreation-area/
END:VEVENT
END:VCALENDAR