BEGIN:VCALENDAR
VERSION:2.0
PRODID:-//Garden Clubs of Northwest Florida - ECPv6.15.20//NONSGML v1.0//EN
CALSCALE:GREGORIAN
METHOD:PUBLISH
X-WR-CALNAME:Garden Clubs of Northwest Florida
X-ORIGINAL-URL:https://gardenclubsnwfl.com
X-WR-CALDESC:Events for Garden Clubs of Northwest Florida
REFRESH-INTERVAL;VALUE=DURATION:PT1H
X-Robots-Tag:noindex
X-PUBLISHED-TTL:PT1H
BEGIN:VTIMEZONE
TZID:America/Chicago
BEGIN:DAYLIGHT
TZOFFSETFROM:-0600
TZOFFSETTO:-0500
TZNAME:CDT
DTSTART:20240310T080000
END:DAYLIGHT
BEGIN:STANDARD
TZOFFSETFROM:-0500
TZOFFSETTO:-0600
TZNAME:CST
DTSTART:20241103T070000
END:STANDARD
BEGIN:DAYLIGHT
TZOFFSETFROM:-0600
TZOFFSETTO:-0500
TZNAME:CDT
DTSTART:20250309T080000
END:DAYLIGHT
BEGIN:STANDARD
TZOFFSETFROM:-0500
TZOFFSETTO:-0600
TZNAME:CST
DTSTART:20251102T070000
END:STANDARD
BEGIN:DAYLIGHT
TZOFFSETFROM:-0600
TZOFFSETTO:-0500
TZNAME:CDT
DTSTART:20260308T080000
END:DAYLIGHT
BEGIN:STANDARD
TZOFFSETFROM:-0500
TZOFFSETTO:-0600
TZNAME:CST
DTSTART:20261101T070000
END:STANDARD
BEGIN:DAYLIGHT
TZOFFSETFROM:-0600
TZOFFSETTO:-0500
TZNAME:CDT
DTSTART:20270314T080000
END:DAYLIGHT
BEGIN:STANDARD
TZOFFSETFROM:-0500
TZOFFSETTO:-0600
TZNAME:CST
DTSTART:20271107T070000
END:STANDARD
END:VTIMEZONE
BEGIN:VEVENT
DTSTART;VALUE=DATE:20250901
DTEND;VALUE=DATE:20260802
DTSTAMP:20260424T103230
CREATED:20250914T002825Z
LAST-MODIFIED:20250914T005723Z
UID:1999-1756684800-1785628799@gardenclubsnwfl.com
SUMMARY:Florida Gardener Issues and Publishing Deadlines
DESCRIPTION:The Florida Gardener welcomes a new editor\, Gayle Rosnick.  \nContact her at gardeninfl@gmail.com \nAll members are welcome to submit articles and events \nSubmission Deadline \nSep 1 – Fall Issue (Published – LINK) \nFeb 1 – Winter Issue \nMay 1 – Spring Issue \nAug 1 – Summer Issue
URL:https://gardenclubsnwfl.com/event/florida-gardener-issues-and-publishing-deadlines/
LOCATION:FL
END:VEVENT
BEGIN:VEVENT
DTSTART;TZID=America/Chicago:20250929T071500
DTEND;TZID=America/Chicago:20251001T110000
DTSTAMP:20260424T103230
CREATED:20250913T232324Z
LAST-MODIFIED:20250913T232630Z
UID:1974-1759130100-1759316400@gardenclubsnwfl.com
SUMMARY:NGC Gardening Course 3 Series 11
DESCRIPTION:What is Gardening Study School?  Find out Here \nSept 29 – 0ct 1\, 2025 \n8:15 AM-12:00 PM EST \nZoom Tech & Course Review Meeting\n(Required) Fri.Sept 26. 2025\n10 -11AM EST Presented via ZOOM \nContact Information: \nLocal School Chairman\nSally Flanagan sfflan@aol.com\n386.315.3317\nRegistrar\nMarty Sibley\nmsibley@cfl.rr.com\n407.765.6620 \nRegistration Link: https://docs.google.com/forms/d/e/1FAIpQLSdH7y1sbvsNUCScPfWg3KI55L7GP7AMcH0X5fgALwpH-0QTxQ/viewform \n 
URL:https://gardenclubsnwfl.com/event/ngc-gardening-course-3-series-11/
LOCATION:ZOOM
END:VEVENT
BEGIN:VEVENT
DTSTART;VALUE=DATE:20251001
DTEND;VALUE=DATE:20251016
DTSTAMP:20260424T103230
CREATED:20230822T191053Z
LAST-MODIFIED:20250914T000701Z
UID:937-1759276800-1760572799@gardenclubsnwfl.com
SUMMARY:NGC Plant America Grant
DESCRIPTION:Due October 15th 2025 \nGo to FFGC Plant America or National Garden Clubs Plant America \nScroll to Plant America information \nwww.plantamerica.org \n  \n 
URL:https://gardenclubsnwfl.com/event/ngc-plant-america-grant/
LOCATION:FL
END:VEVENT
BEGIN:VEVENT
DTSTART;VALUE=DATE:20251001
DTEND;VALUE=DATE:20260601
DTSTAMP:20260424T103230
CREATED:20250914T000356Z
LAST-MODIFIED:20250914T000356Z
UID:1994-1759276800-1780271999@gardenclubsnwfl.com
SUMMARY:NGC EPSOMA Grant
DESCRIPTION:ESPOMA Grant Program \nOpen: October 1 – May 31 \nReceive Espoma plant foods and potting soils to support you garden club’s project. \nTo apply for the PLANT AMERICA grant please visit www.plantamerica.org. \nFor all other grants visit the NGC Grants page for details\, guidelines\, and applications: \nwww.gardenclub.org/awards-and-grants
URL:https://gardenclubsnwfl.com/event/ngc-epsoma-grant/
LOCATION:FL
END:VEVENT
BEGIN:VEVENT
DTSTART;TZID=America/Chicago:20251002T100000
DTEND;TZID=America/Chicago:20251002T120000
DTSTAMP:20260424T103230
CREATED:20250913T224230Z
LAST-MODIFIED:20250914T201152Z
UID:1961-1759399200-1759406400@gardenclubsnwfl.com
SUMMARY:Fun With Flowers - Arrangement in a Pumpkin
DESCRIPTION:Join us for hands-on floral design workshops with Gina Jogan\, NGC Master Flower Show Judge & Instructor. Each session runs from 10:00 AM – 12:00 Noon\, and all supplies are included. Seating is limited\, so register early! \n#1 Arrangement in a Pumpkin – Thursday\, October 2\, 2025 \n#2 Live Wreath or Swag – Tuesday\, December 16\, 2025 \n#3 Spring Arrangement in a Watering Can – Thursday\, April 9\, 2026 \nCost: $30 per session \nRegistration deadline: Two weeks before each event \nMore Information : Contact the Garden Center office at 850-432-6095 or email office@pensacolagardencenter.com \nMake Check Payable to Pensacola Federation of Garden Clubs or PFGC\nMail Registration and Payment to Suzi Matteson\, 3670 Overland Drive\, Pensacola 32504
URL:https://gardenclubsnwfl.com/event/fun-with-flowers-oct-2025/
LOCATION:The Garden Center (Pensacola Federation of Garden Clubs\, Inc.)\, 1850 N 9th Ave\, Pensacola\, FL\, United States
CATEGORIES:Program
ORGANIZER;CN="Pensacola Federation of Garden Clus%2C Inc.":MAILTO:office@pensacolagardencenter.com
END:VEVENT
BEGIN:VEVENT
DTSTART;TZID=America/Chicago:20251007T090000
DTEND;TZID=America/Chicago:20251007T140000
DTSTAMP:20260424T103230
CREATED:20250910T175015Z
LAST-MODIFIED:20250910T175016Z
UID:1946-1759827600-1759845600@gardenclubsnwfl.com
SUMMARY:District 1 Fall Meeting
DESCRIPTION:Hello all members\, “Fall is in the Air\,” with the District Meeting Call for Registration (Registration Form Link) \nThe deadline to register is September 23rd; delegates must register fourteen days in advance.  As you know\, our State FFGC VIPs will be in attendance.  We have the Policies and Procedures to vote on with a couple of changes .. the delegate numbers and attendance.  There are no other major changes\, just clarification. \nWe have Ways and Means items to buy or to order your daffodil bulbs from Ginger. You will be pleased to learn who will receive the Club Awards and District grants\, and there is a small reward for a club that participated in National Garden Week.  There are club raffle baskets\, the District 50/50\, unique shopping\, and a gift bag for each attendee….so bring your cash or credit card. \nI’m sure the ladies of FFGC\, President Christy Linke\, First Vice President\, Mary Whisler\, Second Vice President\, Letitia Gunn\,\nand Third Vice President\, Maria Wolfe will discuss interesting topics.  Be sure to welcome them. \nPlease plan to attend but for planning purposes\, please register as soon as possible.  Lori Echols\, President of Green Thumb Garden Club says “Green Thumb and DeFuniak Springs are excited to host!”  It is sure to be a fun meeting. \nSee you soon. \nBetty \n  \n  \n 
URL:https://gardenclubsnwfl.com/event/district-1-fall-meeting-2025/
LOCATION:Westwinds Conference Center\, 4700 Westwinds Dr\, Miramar Beach\, United States
END:VEVENT
BEGIN:VEVENT
DTSTART;TZID=America/Chicago:20251015T070000
DTEND;TZID=America/Chicago:20251015T103000
DTSTAMP:20260424T103230
CREATED:20240726T214055Z
LAST-MODIFIED:20250913T230233Z
UID:1675-1760511600-1760524200@gardenclubsnwfl.com
SUMMARY:Pensacola Fair Flower Show Entry Day
DESCRIPTION:An National Garden Club (NGC) Standard Flower Show. This years theme is “Let’s Go”. Each year\, a committee from the Pensacola Federation of Garden Clubs\, Inc. (part of FFGC District I)\, hosts a flower show that any amateur gardener can enter!  The flower show is a juried show that conforms to the National Garden Clubs\, Inc. flower show rules.  There are categories for everyone!  Horticulture\, floral design\, botanical arts\, and education.  Please see attached schedule to learn more about what categories you can select for your entry. This is an opportunity for members and the public to participate in a flower show by showing off your horticulture\, or your creative side in a floral design\, assist with judging\, or act as a host/hostess in educating thousands of visitors in areas of horticulture\, floral design\, conservation and landscape design. The Schedule has the contact listing on who can answer all your various questions. \nEntry Drop Off:  between 7:00 and 10:30 a.m.\,  Wednesday\, October 15\, 2025 \nSHOW TIMES:  Wednesday\, October 16th thru Saturday\, October 25th\, 2025 – open to the public at 4:00 pm to 10:00 pm daily with admission to the Fair. Visit Pensacola Fair for admission specials. \nPick up design entries:  Sunday\, October 26\, beginning at 8:00 am (Cut horticulture specimens will be discarded)  Designs must be removed on Sunday\, October 26\, by 11:00 am. \nFlower Show Schedule 2025 – Download Here \nNGC Handbook for Flower Shows –  Located here \nHow to prepare your horticulture entry – Video link here \nAdmission: Free with entry to the Pensacola Interstate Fair \n\nJoin us for stunning floral displays\, creativity\, and inspiration at this year’s NGC Standard Flower Show!
URL:https://gardenclubsnwfl.com/event/fair-flower-show-entries/
LOCATION:Pensacola Interstate Fairgrounds\, 6655 Mobile Hwy\, Pensacola\, FL\, 32526\, United States
CATEGORIES:Flower Show
ORGANIZER;CN="Pensacola Federation of Garden Clus%2C Inc.":MAILTO:office@pensacolagardencenter.com
END:VEVENT
BEGIN:VEVENT
DTSTART;TZID=America/Chicago:20251016T160000
DTEND;TZID=America/Chicago:20251025T220000
DTSTAMP:20260424T103230
CREATED:20240604T190030Z
LAST-MODIFIED:20250913T230120Z
UID:1612-1760630400-1761429600@gardenclubsnwfl.com
SUMMARY:Pensacola Interstate Fair Flower Show
DESCRIPTION:An National Garden Club (NGC) Standard Flower Show. This years theme is “Let’s Go”. Each year\, a committee from the Pensacola Federation of Garden Clubs\, Inc. (part of FFGC District I)\, hosts a flower show that any amateur gardener can enter!  The flower show is a juried show that conforms to the National Garden Clubs\, Inc. flower show rules.  There are categories for everyone!  Horticulture\, floral design\, botanical arts\, and education.  Please see attached schedule to learn more about what categories you can select for your entry. This is an opportunity for members and the public to participate in a flower show by showing off your horticulture\, or your creative side in a floral design\, assist with judging\, or act as a host/hostess in educating thousands of visitors in areas of horticulture\, floral design\, conservation and landscape design. The Schedule has the contact listing on who can answer all your various questions. \nEntry Drop Off:  between 7:00 and 10:30 a.m.\,  Wednesday\, October 15\, 2025 \nSHOW TIMES:  Wednesday\, October 16th thru Saturday\, October 25th\, 2025 – open to the public at 4:00 pm to 10:00 pm daily with admission to the Fair. Visit Pensacola Fair for admission specials. \nPick up design entries:  Sunday\, October 26\, beginning at 8:00 am (Cut horticulture specimens will be discarded)  Designs must be removed on Sunday\, October 26\, by 11:00 am. \nFlower Show Schedule 2025 – Download Here \nNGC Handbook for Flower Shows –  Located here \nHow to prepare your horticulture entry – Video link here \nAdmission: Free with entry to the Pensacola Interstate Fair \n\nJoin us for stunning floral displays\, creativity\, and inspiration at this year’s NGC Standard Flower Show! \n\n  \n 
URL:https://gardenclubsnwfl.com/event/fair-flower-show/
LOCATION:Pensacola Interstate Fairgrounds\, 6655 Mobile Hwy\, Pensacola\, FL\, 32526\, United States
CATEGORIES:Flower Show
ATTACH;FMTTYPE=image/png:https://gardenclubsnwfl.com/wp-content/uploads/2024/06/Lets-Go.png
ORGANIZER;CN="Pensacola Federation of Garden Clus%2C Inc.":MAILTO:office@pensacolagardencenter.com
END:VEVENT
BEGIN:VEVENT
DTSTART;TZID=America/Chicago:20251115T090000
DTEND;TZID=America/Chicago:20251115T140000
DTSTAMP:20260424T103230
CREATED:20250913T234520Z
LAST-MODIFIED:20250913T234520Z
UID:1987-1763197200-1763215200@gardenclubsnwfl.com
SUMMARY:Green Thumb Garden Club Holiday Bazaar
DESCRIPTION:Handcrafted trees\, wreaths\, handmade cards\, jewelry\, plants\, and much much more! \nFree Admission \nLocation: Cantina Laredo in Grand Boulevard – rear meeting room and enclosed outdoor patio \n 
URL:https://gardenclubsnwfl.com/event/green-thumb-garden-club-holiday-bazaar/
LOCATION:FL
END:VEVENT
BEGIN:VEVENT
DTSTART;TZID=America/Chicago:20251210T080000
DTEND;TZID=America/Chicago:20251210T170000
DTSTAMP:20260424T103230
CREATED:20251025T005713Z
LAST-MODIFIED:20251025T014926Z
UID:2034-1765353600-1765386000@gardenclubsnwfl.com
SUMMARY:Floral Design Studies
DESCRIPTION:WHAT IS FLORAL DESIGN?  We have an entire page dedicated to explaining the classes! https://gardenclubsnwfl.com/education/floral-design-study/ \nSPONSORED BY VALPARAISO GARDEN CLUB – SIGN UP NOW! \nWHEN: MONDAYS 10:00AM-3PM\, Jan.12\,19\, 26\, Feb. 2\, 9\,16\, 23\, Mar. 2\, 9\, 2026 \nWHERE: Trinity Presbyterian Church\, 44 Southview Ave\, Valparaiso\, FL 32580 \nREGISTRATION DEADLINE: December 10\, 2025  REGISTRATION LINK
URL:https://gardenclubsnwfl.com/event/floral-design-studies/
LOCATION:Trinity Presbyterian Church\, 44 South Ave\, Valparaiso\, FL\, 32580\, United States
CATEGORIES:Floral Design
ORGANIZER;CN="Valparaiso Garden Club":MAILTO:jimdiconlee@cox.net
END:VEVENT
BEGIN:VEVENT
DTSTART;TZID=America/Chicago:20251216T100000
DTEND;TZID=America/Chicago:20251216T120000
DTSTAMP:20260424T103230
CREATED:20250913T224521Z
LAST-MODIFIED:20250914T201128Z
UID:1964-1765879200-1765886400@gardenclubsnwfl.com
SUMMARY:Fun with Flowers- Holiday Wreath
DESCRIPTION:Join us for hands-on floral design workshops with Gina Jogan\, NGC Master Flower Show Judge & Instructor. Each session runs from 10:00 AM – 12:00 Noon\, and all supplies are included. Seating is limited\, so register early! \n#1 Arrangement in a Pumpkin – Thursday\, October 2\, 2025 \n#2 Live Wreath or Swag – Tuesday\, December 16\, 2025 \n#3 Spring Arrangement in a Watering Can – Thursday\, April 9\, 2026 \nCost: $30 per session \nRegistration deadline: Two weeks before each event \nMore Information : Contact the Garden Center office at 850-432-6095 or email office@pensacolagardencenter.com \nMake Check Payable to Pensacola Federation of Garden Clubs or PFGC\nMail Registration and Payment to Suzi Matteson\, 3670 Overland Drive\, Pensacola 32504
URL:https://gardenclubsnwfl.com/event/fun-with-flowers-dec-2025/
LOCATION:The Garden Center (Pensacola Federation of Garden Clubs\, Inc.)\, 1850 N 9th Ave\, Pensacola\, FL\, United States
CATEGORIES:Floral Design
ORGANIZER;CN="Pensacola Federation of Garden Clus%2C Inc.":MAILTO:office@pensacolagardencenter.com
END:VEVENT
BEGIN:VEVENT
DTSTART;VALUE=DATE:20260101
DTEND;VALUE=DATE:20260302
DTSTAMP:20260424T103230
CREATED:20250914T000522Z
LAST-MODIFIED:20250914T000522Z
UID:1996-1767225600-1772409599@gardenclubsnwfl.com
SUMMARY:NGC AMES Tool Grant
DESCRIPTION:AMES Tools Grant \nOpen: January 1 – March 1 \nApply for high-quality tools to help your club complete its projects efficiently.
URL:https://gardenclubsnwfl.com/event/ngc-ames-tool-grant/
LOCATION:FL
END:VEVENT
BEGIN:VEVENT
DTSTART;TZID=America/Chicago:20260325T140000
DTEND;TZID=America/Chicago:20260325T170000
DTSTAMP:20260424T103230
CREATED:20251023T001454Z
LAST-MODIFIED:20251024T233243Z
UID:2025-1774447200-1774458000@gardenclubsnwfl.com
SUMMARY:Dessert & Design with Jackie Lacey
DESCRIPTION:The Florida Flower Show Judges District I presents another “A Magic carpet Ride through the Colors of India!” floral design event. Come with us on a Magic Carpet Ride as we explore vibrant\, colorful floral design with award-winning designer\, event planner\, and educator Jackie Lacey\, AAF\, AFID\,CFD\, FSMD\, PFCI. Jackie’s joyful designs have been featured in magazines\, television\,\, and major films leading to a roster of A-List clients. He is talented\, highly credentialed\, and charming. We are in for a treat. Prepare to be whisked away on a delightful design journey! Download your Design Gala Registration 2026 (Link) \nADMISSION $40\nCHECKS PAYABLE to: FFSJ District 1\nSEND to: DESIGN GALA REGISTRATION\n4737 PEBBLE CREEK DR.\, PENSACOLA\, FL 32526-4385\nEMAIL: FFSJD1designgalareg@gmail.com\nPURCHASE/REFUND DEADLINE: MAR 10\, 2026
URL:https://gardenclubsnwfl.com/event/dessert-design-2026/
LOCATION:The Garden Center (Pensacola Federation of Garden Clubs\, Inc.)\, 1850 N 9th Ave\, Pensacola\, FL\, United States
CATEGORIES:Floral Design
ATTACH;FMTTYPE=image/jpeg:https://gardenclubsnwfl.com/wp-content/uploads/2025/10/Dessert-and-Design-Web-2026-e1761178606468.jpg
END:VEVENT
BEGIN:VEVENT
DTSTART;TZID=America/Chicago:20260409T100000
DTEND;TZID=America/Chicago:20260409T120000
DTSTAMP:20260424T103230
CREATED:20250913T224800Z
LAST-MODIFIED:20250914T201232Z
UID:1966-1775728800-1775736000@gardenclubsnwfl.com
SUMMARY:Fun With Flowers - Design in a Watering Can
DESCRIPTION:Join us for hands-on floral design workshops with Gina Jogan\, NGC Master Flower Show Judge & Instructor. Each session runs from 10:00 AM – 12:00 Noon\, and all supplies are included. Seating is limited\, so register early! \n#1 Arrangement in a Pumpkin – Thursday\, October 2\, 2025 \n#2 Live Wreath or Swag – Tuesday\, December 16\, 2025 \n#3 Spring Arrangement in a Watering Can – Thursday\, April 9\, 2026 \nCost: $30 per session \nRegistration deadline: Two weeks before each event \nMore Information : Contact the Garden Center office at 850-432-6095 or email office@pensacolagardencenter.com \nMake Check Payable to Pensacola Federation of Garden Clubs or PFGC\nMail Registration and Payment to Suzi Matteson\, 3670 Overland Drive\, Pensacola 32504
URL:https://gardenclubsnwfl.com/event/fun-with-flowers-apr-2026/
LOCATION:The Garden Center (Pensacola Federation of Garden Clubs\, Inc.)\, 1850 N 9th Ave\, Pensacola\, FL\, United States
ORGANIZER;CN="Pensacola Federation of Garden Clus%2C Inc.":MAILTO:office@pensacolagardencenter.com
END:VEVENT
BEGIN:VEVENT
DTSTART;VALUE=DATE:20260414
DTEND;VALUE=DATE:20260418
DTSTAMP:20260424T103230
CREATED:20231118T032541Z
LAST-MODIFIED:20250914T011032Z
UID:1374-1776124800-1776470399@gardenclubsnwfl.com
SUMMARY:FFGC Convention 2026
DESCRIPTION:99th Annual – Theme “Sharing Our Knowledge Plants the Seeds of Tomorrow” \nhttps://ffgc.org/event-6103551
URL:https://gardenclubsnwfl.com/event/ffgc-convention-2026/
LOCATION:Embassy Suites by Hilton Orlando\, 4955 Kyngs Heath Road\, Kissimmee\, FL\, United States
CATEGORIES:Convention
ATTACH;FMTTYPE=image/png:https://gardenclubsnwfl.com/wp-content/uploads/2023/11/convention-2026.png
END:VEVENT
BEGIN:VEVENT
DTSTART;TZID=America/Chicago:20260425T080000
DTEND;TZID=America/Chicago:20260425T160000
DTSTAMP:20260424T103230
CREATED:20260421T201442Z
LAST-MODIFIED:20260421T201442Z
UID:2054-1777104000-1777132800@gardenclubsnwfl.com
SUMMARY:Viva Sweet Spring
DESCRIPTION:Valparaiso is happy to invite you to this free Flower Show on April 25\, 2026\, especially after concluding the recent 2026 Floral Design series of 9 studies\, which concluded on March 9th. \nWant to see the results of this flourish of artistic activity? \nMark your calendar for: \nSaturday\, April 25 \n8 am to 4 pm \nTrinity Presbyterian Church \n44 Southview Avenue (in beautiful Valparaiso)
URL:https://gardenclubsnwfl.com/event/viva-sweet-spring/
LOCATION:Trinity Presbyterian Church\, 44 South Ave\, Valparaiso\, FL\, 32580\, United States
CATEGORIES:Flower Show
ORGANIZER;CN="Valparaiso Garden Club":MAILTO:jimdiconlee@cox.net
END:VEVENT
BEGIN:VEVENT
DTSTART;TZID=America/Chicago:20260512T091500
DTEND;TZID=America/Chicago:20260512T141500
DTSTAMP:20260424T103230
CREATED:20260421T204544Z
LAST-MODIFIED:20260421T204544Z
UID:2062-1778577300-1778595300@gardenclubsnwfl.com
SUMMARY:District 1 Spring Meeting
DESCRIPTION:Host: Honeysuckle Garden Club\nRegistration opens at 8:15 AM  All club members can attend!\nMeeting Call to Order Starts at: 9:15 AM\nProgram:  Bird Identification by the Audubon Society \nMore Information : ttuttle1954@gmail.com \n  \n  \n 
URL:https://gardenclubsnwfl.com/event/district-1-spring-meeting-may-2026/
LOCATION:Barrineau Park Community Center\, 6055 Barrineau Park School Road\, Molino\, FL\, 32577\, United States
CATEGORIES:Program
ORGANIZER;CN="Honeysuckle Garden Club":MAILTO:gvjogan@panhandle.rr.com
END:VEVENT
BEGIN:VEVENT
DTSTART;VALUE=DATE:20260522
DTEND;VALUE=DATE:20260523
DTSTAMP:20260424T103230
CREATED:20231003T120146Z
LAST-MODIFIED:20260421T212624Z
UID:1157-1779408000-1779494399@gardenclubsnwfl.com
SUMMARY:Milton Garden Club - Golf Scramble
DESCRIPTION:Fifth Annual Golf Scramble hosted by Milton Garden Club \nEvent Brochure \nMay 22\, 2026 – 11:00 AM  Registration Begins\, Vendor Exhibits Open \n11:00 AM  Lunch Begins \n12:30 PM  Shotgun Start \n5:30 PM  Post Round Awards and Dinner \nContact Lois Spencer\, miltongardenclubflgolf@gmail.com \, 214-668-5537 for Registration \nhttps://milton-garden-club-golf.perfectgolfevent.com/ \nContact jenweber@gmail.com\, 850-902-9060 for Sponsorship Opportunities \n 
URL:https://gardenclubsnwfl.com/event/golf-scramble-2026/
LOCATION:Tanglewood Golf Club\, 5916 Tanglewood Dr\, Milton\, FL\, 32570\, United States
CATEGORIES:Golf
ATTACH;FMTTYPE=image/png:https://gardenclubsnwfl.com/wp-content/uploads/2023/10/Golf-Featured-Image.png
END:VEVENT
END:VCALENDAR