BEGIN:VCALENDAR
VERSION:2.0
PRODID:-//Garden Clubs of Northwest Florida - ECPv6.15.20//NONSGML v1.0//EN
CALSCALE:GREGORIAN
METHOD:PUBLISH
X-WR-CALNAME:Garden Clubs of Northwest Florida
X-ORIGINAL-URL:https://gardenclubsnwfl.com
X-WR-CALDESC:Events for Garden Clubs of Northwest Florida
REFRESH-INTERVAL;VALUE=DURATION:PT1H
X-Robots-Tag:noindex
X-PUBLISHED-TTL:PT1H
BEGIN:VTIMEZONE
TZID:America/Chicago
BEGIN:DAYLIGHT
TZOFFSETFROM:-0600
TZOFFSETTO:-0500
TZNAME:CDT
DTSTART:20230312T080000
END:DAYLIGHT
BEGIN:STANDARD
TZOFFSETFROM:-0500
TZOFFSETTO:-0600
TZNAME:CST
DTSTART:20231105T070000
END:STANDARD
BEGIN:DAYLIGHT
TZOFFSETFROM:-0600
TZOFFSETTO:-0500
TZNAME:CDT
DTSTART:20240310T080000
END:DAYLIGHT
BEGIN:STANDARD
TZOFFSETFROM:-0500
TZOFFSETTO:-0600
TZNAME:CST
DTSTART:20241103T070000
END:STANDARD
BEGIN:DAYLIGHT
TZOFFSETFROM:-0600
TZOFFSETTO:-0500
TZNAME:CDT
DTSTART:20250309T080000
END:DAYLIGHT
BEGIN:STANDARD
TZOFFSETFROM:-0500
TZOFFSETTO:-0600
TZNAME:CST
DTSTART:20251102T070000
END:STANDARD
BEGIN:DAYLIGHT
TZOFFSETFROM:-0600
TZOFFSETTO:-0500
TZNAME:CDT
DTSTART:20260308T080000
END:DAYLIGHT
BEGIN:STANDARD
TZOFFSETFROM:-0500
TZOFFSETTO:-0600
TZNAME:CST
DTSTART:20261101T070000
END:STANDARD
END:VTIMEZONE
BEGIN:VTIMEZONE
TZID:America/New_York
BEGIN:DAYLIGHT
TZOFFSETFROM:-0500
TZOFFSETTO:-0400
TZNAME:EDT
DTSTART:20230312T070000
END:DAYLIGHT
BEGIN:STANDARD
TZOFFSETFROM:-0400
TZOFFSETTO:-0500
TZNAME:EST
DTSTART:20231105T060000
END:STANDARD
BEGIN:DAYLIGHT
TZOFFSETFROM:-0500
TZOFFSETTO:-0400
TZNAME:EDT
DTSTART:20240310T070000
END:DAYLIGHT
BEGIN:STANDARD
TZOFFSETFROM:-0400
TZOFFSETTO:-0500
TZNAME:EST
DTSTART:20241103T060000
END:STANDARD
BEGIN:DAYLIGHT
TZOFFSETFROM:-0500
TZOFFSETTO:-0400
TZNAME:EDT
DTSTART:20250309T070000
END:DAYLIGHT
BEGIN:STANDARD
TZOFFSETFROM:-0400
TZOFFSETTO:-0500
TZNAME:EST
DTSTART:20251102T060000
END:STANDARD
END:VTIMEZONE
BEGIN:VEVENT
DTSTART;TZID=America/Chicago:20251016T160000
DTEND;TZID=America/Chicago:20251025T220000
DTSTAMP:20260420T032001
CREATED:20240604T190030Z
LAST-MODIFIED:20250913T230120Z
UID:1612-1760630400-1761429600@gardenclubsnwfl.com
SUMMARY:Pensacola Interstate Fair Flower Show
DESCRIPTION:An National Garden Club (NGC) Standard Flower Show. This years theme is “Let’s Go”. Each year\, a committee from the Pensacola Federation of Garden Clubs\, Inc. (part of FFGC District I)\, hosts a flower show that any amateur gardener can enter!  The flower show is a juried show that conforms to the National Garden Clubs\, Inc. flower show rules.  There are categories for everyone!  Horticulture\, floral design\, botanical arts\, and education.  Please see attached schedule to learn more about what categories you can select for your entry. This is an opportunity for members and the public to participate in a flower show by showing off your horticulture\, or your creative side in a floral design\, assist with judging\, or act as a host/hostess in educating thousands of visitors in areas of horticulture\, floral design\, conservation and landscape design. The Schedule has the contact listing on who can answer all your various questions. \nEntry Drop Off:  between 7:00 and 10:30 a.m.\,  Wednesday\, October 15\, 2025 \nSHOW TIMES:  Wednesday\, October 16th thru Saturday\, October 25th\, 2025 – open to the public at 4:00 pm to 10:00 pm daily with admission to the Fair. Visit Pensacola Fair for admission specials. \nPick up design entries:  Sunday\, October 26\, beginning at 8:00 am (Cut horticulture specimens will be discarded)  Designs must be removed on Sunday\, October 26\, by 11:00 am. \nFlower Show Schedule 2025 – Download Here \nNGC Handbook for Flower Shows –  Located here \nHow to prepare your horticulture entry – Video link here \nAdmission: Free with entry to the Pensacola Interstate Fair \n\nJoin us for stunning floral displays\, creativity\, and inspiration at this year’s NGC Standard Flower Show! \n\n  \n 
URL:https://gardenclubsnwfl.com/event/fair-flower-show/
LOCATION:Pensacola Interstate Fairgrounds\, 6655 Mobile Hwy\, Pensacola\, FL\, 32526\, United States
CATEGORIES:Flower Show
ATTACH;FMTTYPE=image/png:https://gardenclubsnwfl.com/wp-content/uploads/2024/06/Lets-Go.png
ORGANIZER;CN="Pensacola Federation of Garden Clus%2C Inc.":MAILTO:office@pensacolagardencenter.com
END:VEVENT
BEGIN:VEVENT
DTSTART;TZID=America/Chicago:20251015T070000
DTEND;TZID=America/Chicago:20251015T103000
DTSTAMP:20260420T032001
CREATED:20240726T214055Z
LAST-MODIFIED:20250913T230233Z
UID:1675-1760511600-1760524200@gardenclubsnwfl.com
SUMMARY:Pensacola Fair Flower Show Entry Day
DESCRIPTION:An National Garden Club (NGC) Standard Flower Show. This years theme is “Let’s Go”. Each year\, a committee from the Pensacola Federation of Garden Clubs\, Inc. (part of FFGC District I)\, hosts a flower show that any amateur gardener can enter!  The flower show is a juried show that conforms to the National Garden Clubs\, Inc. flower show rules.  There are categories for everyone!  Horticulture\, floral design\, botanical arts\, and education.  Please see attached schedule to learn more about what categories you can select for your entry. This is an opportunity for members and the public to participate in a flower show by showing off your horticulture\, or your creative side in a floral design\, assist with judging\, or act as a host/hostess in educating thousands of visitors in areas of horticulture\, floral design\, conservation and landscape design. The Schedule has the contact listing on who can answer all your various questions. \nEntry Drop Off:  between 7:00 and 10:30 a.m.\,  Wednesday\, October 15\, 2025 \nSHOW TIMES:  Wednesday\, October 16th thru Saturday\, October 25th\, 2025 – open to the public at 4:00 pm to 10:00 pm daily with admission to the Fair. Visit Pensacola Fair for admission specials. \nPick up design entries:  Sunday\, October 26\, beginning at 8:00 am (Cut horticulture specimens will be discarded)  Designs must be removed on Sunday\, October 26\, by 11:00 am. \nFlower Show Schedule 2025 – Download Here \nNGC Handbook for Flower Shows –  Located here \nHow to prepare your horticulture entry – Video link here \nAdmission: Free with entry to the Pensacola Interstate Fair \n\nJoin us for stunning floral displays\, creativity\, and inspiration at this year’s NGC Standard Flower Show!
URL:https://gardenclubsnwfl.com/event/fair-flower-show-entries/
LOCATION:Pensacola Interstate Fairgrounds\, 6655 Mobile Hwy\, Pensacola\, FL\, 32526\, United States
CATEGORIES:Flower Show
ORGANIZER;CN="Pensacola Federation of Garden Clus%2C Inc.":MAILTO:office@pensacolagardencenter.com
END:VEVENT
BEGIN:VEVENT
DTSTART;TZID=America/Chicago:20250530T090000
DTEND;TZID=America/Chicago:20250530T170000
DTSTAMP:20260420T032001
CREATED:20250501T152315Z
LAST-MODIFIED:20250501T152343Z
UID:1867-1748595600-1748624400@gardenclubsnwfl.com
SUMMARY:Navarre Garden Club - Flower Show
DESCRIPTION:BEACH PARTY 1975\nA NAVARRE GARDEN CLUB SMALL STANDARD FLOWER SHOW\nPRESENTED BY NAVARRE GARDEN CLUBS\, INC.\nCELEBRATING 50 YEARS! \nWHEN: MAY 30 AND 31\, 2025\nMAY 30 – 9:00 A.M. – 5:00 P.M.\nMAY 31 – 9:00 A.M. – 12 NOON \nFREE AND OPEN TO THE PUBLIC
URL:https://gardenclubsnwfl.com/event/navarre-garden-club-flower-show/
LOCATION:Navarre Library\, 8484 James M Harwell Rd\, Navarre\, FL\, United States
CATEGORIES:Flower Show
ATTACH;FMTTYPE=image/jpeg:https://gardenclubsnwfl.com/wp-content/uploads/2025/05/NAVARRE-GARDEN-CLUB.jpg
END:VEVENT
BEGIN:VEVENT
DTSTART;TZID=America/Chicago:20250311T080000
DTEND;TZID=America/Chicago:20250314T170000
DTSTAMP:20260420T032001
CREATED:20241113T133919Z
LAST-MODIFIED:20241113T134133Z
UID:1798-1741680000-1741971600@gardenclubsnwfl.com
SUMMARY:Deep South Garden Clubs Convention "Charms of the South"
DESCRIPTION:Join us in Georgia!  Deep South Garden Clubs\, Inc. is our club!  Go to South Georgia\, Valdosta\, where Valdosta University is housed. \nTours – Petite Flower Show – TriRefesher – Workshops – Awards – Floral Design Presentation \nHosted with pride by the Garden Club of Georgia\, Inc. \n“Simply South” Petite Flower Show Shedule PDF document click here
URL:https://gardenclubsnwfl.com/event/deep-south-garden-clubs-convention-charms-of-the-south/
LOCATION:FL
CATEGORIES:Convention,Flower Show
ATTACH;FMTTYPE=image/jpeg:https://gardenclubsnwfl.com/wp-content/uploads/2024/11/Deep-South-Convention-Logo-Flyer.jpg
END:VEVENT
BEGIN:VEVENT
DTSTART;TZID=America/Chicago:20241022T100000
DTEND;TZID=America/Chicago:20241022T150000
DTSTAMP:20260420T032001
CREATED:20230825T232443Z
LAST-MODIFIED:20240726T214549Z
UID:1021-1729591200-1729609200@gardenclubsnwfl.com
SUMMARY:Club Flower Show Visits
DESCRIPTION:Open to Garden Club Members Only \nEnjoy a visit to the Fair Flower Show without the Parking and Ticket hassles.  Contact your club leadership to find out instructions and your scheduled visit time.
URL:https://gardenclubsnwfl.com/event/club-flower-show-visits/
LOCATION:Pensacola Interstate Fairgrounds\, 6655 Mobile Hwy\, Pensacola\, FL\, 32526\, United States
CATEGORIES:Floral Design,Flower Show
ORGANIZER;CN="Pensacola Federation of Garden Clus%2C Inc.":MAILTO:office@pensacolagardencenter.com
END:VEVENT
BEGIN:VEVENT
DTSTART;TZID=America/Chicago:20240409T130000
DTEND;TZID=America/Chicago:20240412T150000
DTSTAMP:20260420T032001
CREATED:20231204T134222Z
LAST-MODIFIED:20231212T213720Z
UID:1397-1712667600-1712934000@gardenclubsnwfl.com
SUMMARY:Celebrating 100 Years! Convention Flower Show
DESCRIPTION:In conjuction with the 2024 Florida Federation of Garden Clubs Convention\, this flower show will be held at the Garden Club of Jacksonville’s historic building. FFGC members are invited to exhibit and attend! Exhibits will be accepted on April 9th and judging takes place on April 10th. \nFlower Show Chairman\, Gina Jogan:Flower Show Chair \nFFSJ President\, Gina Jogan (gvjogan@panhandle.rr.com) \nCo-Chairmen Ann Crawford (rcrawford2@panhandle.rr.com)and Barb Jacobson (chuck7503@aol.com) \nRegistration Required – Draft Flower Show Schedule \n 
URL:https://gardenclubsnwfl.com/event/convention-flower-show/
LOCATION:Garden Club of Jacksonville\, 1005 Riverside Ave\, Jacksonville\, FL\, 32204\, United States
CATEGORIES:Convention,Flower Show
END:VEVENT
BEGIN:VEVENT
DTSTART;VALUE=DATE:20240409
DTEND;VALUE=DATE:20240413
DTSTAMP:20260420T032001
CREATED:20231017T135339Z
LAST-MODIFIED:20240202T205934Z
UID:1257-1712620800-1712966399@gardenclubsnwfl.com
SUMMARY:FFGC Members Only Art Show
DESCRIPTION:FFGC Convention will have a juried art show just for us.  Members Only Art Show at the hotel will showcase your great works of art! \nCash prizes will be awarded.  Take a look at the schedule and plan to share your creative side! To see Members Only Art Show registration schedule\, click on “Artshow2024” \nArtshow2024 \nFFGC.org/convention
URL:https://gardenclubsnwfl.com/event/ffgc-members-only-art-show/
LOCATION:Southbank Marriott Hotel\, Jacksonville\, FL\, United States
CATEGORIES:Art Show,Convention,Flower Show
END:VEVENT
END:VCALENDAR