BEGIN:VCALENDAR
VERSION:2.0
PRODID:-//Garden Clubs of Northwest Florida - ECPv6.15.20//NONSGML v1.0//EN
CALSCALE:GREGORIAN
METHOD:PUBLISH
X-WR-CALNAME:Garden Clubs of Northwest Florida
X-ORIGINAL-URL:https://gardenclubsnwfl.com
X-WR-CALDESC:Events for Garden Clubs of Northwest Florida
REFRESH-INTERVAL;VALUE=DURATION:PT1H
X-Robots-Tag:noindex
X-PUBLISHED-TTL:PT1H
BEGIN:VTIMEZONE
TZID:America/Chicago
BEGIN:DAYLIGHT
TZOFFSETFROM:-0600
TZOFFSETTO:-0500
TZNAME:CDT
DTSTART:20240310T080000
END:DAYLIGHT
BEGIN:STANDARD
TZOFFSETFROM:-0500
TZOFFSETTO:-0600
TZNAME:CST
DTSTART:20241103T070000
END:STANDARD
BEGIN:DAYLIGHT
TZOFFSETFROM:-0600
TZOFFSETTO:-0500
TZNAME:CDT
DTSTART:20250309T080000
END:DAYLIGHT
BEGIN:STANDARD
TZOFFSETFROM:-0500
TZOFFSETTO:-0600
TZNAME:CST
DTSTART:20251102T070000
END:STANDARD
BEGIN:DAYLIGHT
TZOFFSETFROM:-0600
TZOFFSETTO:-0500
TZNAME:CDT
DTSTART:20260308T080000
END:DAYLIGHT
BEGIN:STANDARD
TZOFFSETFROM:-0500
TZOFFSETTO:-0600
TZNAME:CST
DTSTART:20261101T070000
END:STANDARD
BEGIN:DAYLIGHT
TZOFFSETFROM:-0600
TZOFFSETTO:-0500
TZNAME:CDT
DTSTART:20270314T080000
END:DAYLIGHT
BEGIN:STANDARD
TZOFFSETFROM:-0500
TZOFFSETTO:-0600
TZNAME:CST
DTSTART:20271107T070000
END:STANDARD
END:VTIMEZONE
BEGIN:VEVENT
DTSTART;VALUE=DATE:20250901
DTEND;VALUE=DATE:20260802
DTSTAMP:20260424T065223
CREATED:20250914T002825Z
LAST-MODIFIED:20250914T005723Z
UID:1999-1756684800-1785628799@gardenclubsnwfl.com
SUMMARY:Florida Gardener Issues and Publishing Deadlines
DESCRIPTION:The Florida Gardener welcomes a new editor\, Gayle Rosnick.  \nContact her at gardeninfl@gmail.com \nAll members are welcome to submit articles and events \nSubmission Deadline \nSep 1 – Fall Issue (Published – LINK) \nFeb 1 – Winter Issue \nMay 1 – Spring Issue \nAug 1 – Summer Issue
URL:https://gardenclubsnwfl.com/event/florida-gardener-issues-and-publishing-deadlines/
LOCATION:FL
END:VEVENT
BEGIN:VEVENT
DTSTART;VALUE=DATE:20251001
DTEND;VALUE=DATE:20260601
DTSTAMP:20260424T065223
CREATED:20250914T000356Z
LAST-MODIFIED:20250914T000356Z
UID:1994-1759276800-1780271999@gardenclubsnwfl.com
SUMMARY:NGC EPSOMA Grant
DESCRIPTION:ESPOMA Grant Program \nOpen: October 1 – May 31 \nReceive Espoma plant foods and potting soils to support you garden club’s project. \nTo apply for the PLANT AMERICA grant please visit www.plantamerica.org. \nFor all other grants visit the NGC Grants page for details\, guidelines\, and applications: \nwww.gardenclub.org/awards-and-grants
URL:https://gardenclubsnwfl.com/event/ngc-epsoma-grant/
LOCATION:FL
END:VEVENT
BEGIN:VEVENT
DTSTART;TZID=America/Chicago:20251016T160000
DTEND;TZID=America/Chicago:20251025T220000
DTSTAMP:20260424T065223
CREATED:20240604T190030Z
LAST-MODIFIED:20250913T230120Z
UID:1612-1760630400-1761429600@gardenclubsnwfl.com
SUMMARY:Pensacola Interstate Fair Flower Show
DESCRIPTION:An National Garden Club (NGC) Standard Flower Show. This years theme is “Let’s Go”. Each year\, a committee from the Pensacola Federation of Garden Clubs\, Inc. (part of FFGC District I)\, hosts a flower show that any amateur gardener can enter!  The flower show is a juried show that conforms to the National Garden Clubs\, Inc. flower show rules.  There are categories for everyone!  Horticulture\, floral design\, botanical arts\, and education.  Please see attached schedule to learn more about what categories you can select for your entry. This is an opportunity for members and the public to participate in a flower show by showing off your horticulture\, or your creative side in a floral design\, assist with judging\, or act as a host/hostess in educating thousands of visitors in areas of horticulture\, floral design\, conservation and landscape design. The Schedule has the contact listing on who can answer all your various questions. \nEntry Drop Off:  between 7:00 and 10:30 a.m.\,  Wednesday\, October 15\, 2025 \nSHOW TIMES:  Wednesday\, October 16th thru Saturday\, October 25th\, 2025 – open to the public at 4:00 pm to 10:00 pm daily with admission to the Fair. Visit Pensacola Fair for admission specials. \nPick up design entries:  Sunday\, October 26\, beginning at 8:00 am (Cut horticulture specimens will be discarded)  Designs must be removed on Sunday\, October 26\, by 11:00 am. \nFlower Show Schedule 2025 – Download Here \nNGC Handbook for Flower Shows –  Located here \nHow to prepare your horticulture entry – Video link here \nAdmission: Free with entry to the Pensacola Interstate Fair \n\nJoin us for stunning floral displays\, creativity\, and inspiration at this year’s NGC Standard Flower Show! \n\n  \n 
URL:https://gardenclubsnwfl.com/event/fair-flower-show/
LOCATION:Pensacola Interstate Fairgrounds\, 6655 Mobile Hwy\, Pensacola\, FL\, 32526\, United States
CATEGORIES:Flower Show
ATTACH;FMTTYPE=image/png:https://gardenclubsnwfl.com/wp-content/uploads/2024/06/Lets-Go.png
ORGANIZER;CN="Pensacola Federation of Garden Clus%2C Inc.":MAILTO:office@pensacolagardencenter.com
END:VEVENT
END:VCALENDAR